BEGIN:VCALENDAR
VERSION:2.0
PRODID:-//Ronald McDonald House Toronto - ECPv6.15.18//NONSGML v1.0//EN
CALSCALE:GREGORIAN
METHOD:PUBLISH
X-WR-CALNAME:Ronald McDonald House Toronto
X-ORIGINAL-URL:https://ronaldmcdonaldhousetoronto.ca
X-WR-CALDESC:Events for Ronald McDonald House Toronto
REFRESH-INTERVAL;VALUE=DURATION:PT1H
X-Robots-Tag:noindex
X-PUBLISHED-TTL:PT1H
BEGIN:VTIMEZONE
TZID:America/Toronto
BEGIN:DAYLIGHT
TZOFFSETFROM:-0500
TZOFFSETTO:-0400
TZNAME:EDT
DTSTART:20200308T070000
END:DAYLIGHT
BEGIN:STANDARD
TZOFFSETFROM:-0400
TZOFFSETTO:-0500
TZNAME:EST
DTSTART:20201101T060000
END:STANDARD
BEGIN:DAYLIGHT
TZOFFSETFROM:-0500
TZOFFSETTO:-0400
TZNAME:EDT
DTSTART:20210314T070000
END:DAYLIGHT
BEGIN:STANDARD
TZOFFSETFROM:-0400
TZOFFSETTO:-0500
TZNAME:EST
DTSTART:20211107T060000
END:STANDARD
BEGIN:DAYLIGHT
TZOFFSETFROM:-0500
TZOFFSETTO:-0400
TZNAME:EDT
DTSTART:20220313T070000
END:DAYLIGHT
BEGIN:STANDARD
TZOFFSETFROM:-0400
TZOFFSETTO:-0500
TZNAME:EST
DTSTART:20221106T060000
END:STANDARD
BEGIN:DAYLIGHT
TZOFFSETFROM:-0500
TZOFFSETTO:-0400
TZNAME:EDT
DTSTART:20230312T070000
END:DAYLIGHT
BEGIN:STANDARD
TZOFFSETFROM:-0400
TZOFFSETTO:-0500
TZNAME:EST
DTSTART:20231105T060000
END:STANDARD
BEGIN:DAYLIGHT
TZOFFSETFROM:-0500
TZOFFSETTO:-0400
TZNAME:EDT
DTSTART:20240310T070000
END:DAYLIGHT
BEGIN:STANDARD
TZOFFSETFROM:-0400
TZOFFSETTO:-0500
TZNAME:EST
DTSTART:20241103T060000
END:STANDARD
BEGIN:DAYLIGHT
TZOFFSETFROM:-0500
TZOFFSETTO:-0400
TZNAME:EDT
DTSTART:20250309T070000
END:DAYLIGHT
BEGIN:STANDARD
TZOFFSETFROM:-0400
TZOFFSETTO:-0500
TZNAME:EST
DTSTART:20251102T060000
END:STANDARD
BEGIN:DAYLIGHT
TZOFFSETFROM:-0500
TZOFFSETTO:-0400
TZNAME:EDT
DTSTART:20260308T070000
END:DAYLIGHT
BEGIN:STANDARD
TZOFFSETFROM:-0400
TZOFFSETTO:-0500
TZNAME:EST
DTSTART:20261101T060000
END:STANDARD
END:VTIMEZONE
BEGIN:VEVENT
DTSTART;VALUE=DATE:20250714
DTEND;VALUE=DATE:20250715
DTSTAMP:20260419T144045
CREATED:20250108T205947Z
LAST-MODIFIED:20260217T142809Z
UID:10054-1752451200-1752537599@ronaldmcdonaldhousetoronto.ca
SUMMARY:23rd Annual Charity Golf Classic
DESCRIPTION:Join us for this exclusive opportunity to play The Thornhill Club\, typically open to members-only. This renowned Stanley Thompson designed course is located on Yonge St. just north of Steeles Ave. \nEnjoy a day of golf with clients and colleagues while supporting RMHC Toronto. Choose your tee time and enjoy an amazing day at the scramble format tournament\, including delicious meals\, gifts for all golfers\, team prizes\, closest to the pin and longest drive contests\, plus silent and live auctions. \nLearn more and register now here: Charity Golf Classic \nSince its inception in 2003\, the RMHC Toronto Charity Golf Classic has raised more than $4.5 million for families with seriously ill children. \n  \n 
URL:https://ronaldmcdonaldhousetoronto.ca/event/23rd-annual-charity-golf-classic/
LOCATION:The Thornhill Club\, 7994 Yonge Street\, Thornhill\, Ontario\, L4J 1W3\, Canada
CATEGORIES:Fundraising
ATTACH;FMTTYPE=image/jpeg:https://ronaldmcdonaldhousetoronto.ca/wp-content/uploads/2023/03/18-green-thornhill_HUX4942.jpg
ORGANIZER;CN="Ronald McDonald Toronto":MAILTO:info@ronaldmcdonaldhousetoronto.ca
END:VEVENT
BEGIN:VEVENT
DTSTART;VALUE=DATE:20250508
DTEND;VALUE=DATE:20250509
DTSTAMP:20260419T144045
CREATED:20250108T205652Z
LAST-MODIFIED:20250108T205652Z
UID:10053-1746662400-1746748799@ronaldmcdonaldhousetoronto.ca
SUMMARY:McHappy Day
DESCRIPTION:McHappy Day is Thursday\, May 8\, 2025! \nJoin us at your local McDonald’s restaurant and support RMHC Toronto’s mission of keeping families close by enjoying your favourite menu item! \nWith your support this McHappy Day\, you can help raise critical funds which allow us to continue providing support and accommodation\, so that families can focus on what matters most: caring for their sick child. \n  \n 
URL:https://ronaldmcdonaldhousetoronto.ca/event/mchappy-day/
LOCATION:McDonald’s
CATEGORIES:Fundraising
END:VEVENT
BEGIN:VEVENT
DTSTART;VALUE=DATE:20211015
DTEND;VALUE=DATE:20211018
DTSTAMP:20260419T144045
CREATED:20210811T180457Z
LAST-MODIFIED:20230327T133254Z
UID:3780-1634256000-1634515199@ronaldmcdonaldhousetoronto.ca
SUMMARY:Wear Your Stripes
DESCRIPTION:Looking for a fun activity this Fall?\nJoin us and celebrate 40 years of RMHC Toronto by participating in Wear Your Stripes from October 15-17\, 2021.\n \nWear Your Stripes\, presented by Subaru\, is a fun and meaningful way to connect with our caring and compassionate community of donors\, volunteers\, families\, and friends as we raise funds to support families who need us – now\, more than ever. \nIn order to access the medical care that their child needs\, many families need to travel great distances to and from home. And with the pandemic\, we’ve seen most hospitals close their food courts or operate them at reduced hours. The need for our House and Family Rooms has never been greater – and YOU can help! \nAnyone can register to participate or donate at WearYourStripes.ca. \nCheck out the website to learn more about: \n\nEarning a branded Wear Your Stripes for RMHC Toronto hoodie when you raise $1\,000\nDownloadable backgrounds for your virtual meetings\, as well as shareable social media graphics\n\nWear Your Stripes is made possible through the generous support of donors\, including Presenting Sponsor Subaru and Stripes Sponsor Purves Redmond. \nRegister to participate at WearYourStripes.ca to show your love. \n#WearYourStripesToronto
URL:https://ronaldmcdonaldhousetoronto.ca/event/wear-your-stripes/
LOCATION:Virtual Event\, 240 McCaul Street\, Toronto\, ON\, M5T1W5\, Canada
CATEGORIES:Fundraising
ATTACH;FMTTYPE=image/jpeg:https://ronaldmcdonaldhousetoronto.ca/wp-content/uploads/2021/08/WearYourStripes_Banner.jpg
ORGANIZER;CN="Ronald McDonald Toronto":MAILTO:info@ronaldmcdonaldhousetoronto.ca
END:VEVENT
END:VCALENDAR